BEGIN:VCALENDAR
VERSION:2.0
PRODID:-//The Gottman Institute - ECPv6.15.18//NONSGML v1.0//EN
CALSCALE:GREGORIAN
METHOD:PUBLISH
X-WR-CALNAME:The Gottman Institute
X-ORIGINAL-URL:https://www.gottman.com
X-WR-CALDESC:Events for The Gottman Institute
REFRESH-INTERVAL;VALUE=DURATION:PT1H
X-Robots-Tag:noindex
X-PUBLISHED-TTL:PT1H
BEGIN:VTIMEZONE
TZID:America/New_York
BEGIN:DAYLIGHT
TZOFFSETFROM:-0500
TZOFFSETTO:-0400
TZNAME:EDT
DTSTART:20250309T070000
END:DAYLIGHT
BEGIN:STANDARD
TZOFFSETFROM:-0400
TZOFFSETTO:-0500
TZNAME:EST
DTSTART:20251102T060000
END:STANDARD
BEGIN:DAYLIGHT
TZOFFSETFROM:-0500
TZOFFSETTO:-0400
TZNAME:EDT
DTSTART:20260308T070000
END:DAYLIGHT
BEGIN:STANDARD
TZOFFSETFROM:-0400
TZOFFSETTO:-0500
TZNAME:EST
DTSTART:20261101T060000
END:STANDARD
BEGIN:DAYLIGHT
TZOFFSETFROM:-0500
TZOFFSETTO:-0400
TZNAME:EDT
DTSTART:20270314T070000
END:DAYLIGHT
BEGIN:STANDARD
TZOFFSETFROM:-0400
TZOFFSETTO:-0500
TZNAME:EST
DTSTART:20271107T060000
END:STANDARD
END:VTIMEZONE
BEGIN:VEVENT
DTSTART;TZID=America/New_York:20261009T090000
DTEND;TZID=America/New_York:20261010T160000
DTSTAMP:20260421T024044
CREATED:20260415T222748Z
LAST-MODIFIED:20260415T222748Z
UID:450001362-1791536400-1791648000@www.gottman.com
SUMMARY:Bringing Baby Home Parents Workshop
DESCRIPTION:
URL:https://www.gottman.com/event/bringing-baby-home-parents-workshop-39/
LOCATION:1549 Clairmont Road\, Suite 203\, 1549 Clairmont Road Suite 203\, Decatur\, GA\, 30033\, United States
CATEGORIES:Bringing Baby Home Parent Workshop,Parents Workshop
GEO:33.7991632;-84.3069375
X-APPLE-STRUCTURED-LOCATION;VALUE=URI;X-ADDRESS=1549 Clairmont Road Suite 203 1549 Clairmont Road Suite 203 Decatur GA 30033 United States;X-APPLE-RADIUS=500;X-TITLE=1549 Clairmont Road Suite 203:geo:-84.3069375,33.7991632
END:VEVENT
END:VCALENDAR